Package: FELLA Version: 1.27.0 Command: /Library/Frameworks/R.framework/Resources/bin/R CMD INSTALL FELLA StartedAt: 2025-02-09 15:04:20 -0500 (Sun, 09 Feb 2025) EndedAt: 2025-02-09 15:04:26 -0500 (Sun, 09 Feb 2025) EllapsedTime: 6.6 seconds RetCode: 0 Status: OK