Package: FGNet Version: 3.41.0 Command: /Library/Frameworks/R.framework/Resources/bin/R CMD INSTALL FGNet StartedAt: 2025-02-03 15:39:05 -0500 (Mon, 03 Feb 2025) EndedAt: 2025-02-03 15:39:09 -0500 (Mon, 03 Feb 2025) EllapsedTime: 3.4 seconds RetCode: 0 Status: OK