Package: FGNet Version: 3.41.0 Command: /home/biocbuild/R/R/bin/R CMD build --keep-empty-dirs --no-resave-data FGNet StartedAt: 2025-01-28 22:53:26 -0000 (Tue, 28 Jan 2025) EndedAt: 2025-01-28 22:53:49 -0000 (Tue, 28 Jan 2025) EllapsedTime: 23.0 seconds RetCode: 0 Status: OK PackageFile: FGNet_3.41.0.tar.gz PackageFileSize: 2.744 MiB