Package: FGNet Version: 3.41.0 Command: /home/biocbuild/R/R/bin/R CMD check --install=check:FGNet.install-out.txt --library=/home/biocbuild/R/R/site-library --no-vignettes --timings FGNet_3.41.0.tar.gz StartedAt: 2025-01-28 10:36:17 -0000 (Tue, 28 Jan 2025) EndedAt: 2025-01-28 10:37:19 -0000 (Tue, 28 Jan 2025) EllapsedTime: 62.1 seconds RetCode: 0 Status: WARNINGS CheckDir: FGNet.Rcheck Warnings: 1