Package: FGNet Version: 3.41.0 Command: /Library/Frameworks/R.framework/Resources/bin/R CMD build --keep-empty-dirs --no-resave-data FGNet StartedAt: 2025-02-03 16:46:55 -0500 (Mon, 03 Feb 2025) EndedAt: 2025-02-03 16:47:19 -0500 (Mon, 03 Feb 2025) EllapsedTime: 24.1 seconds RetCode: 0 Status: OK PackageFile: FGNet_3.41.0.tar.gz PackageFileSize: 2.72 MiB