Package: FGNet Version: 3.41.0 Command: /home/biocbuild/bbs-3.21-bioc/R/bin/R CMD check --install=check:FGNet.install-out.txt --library=/home/biocbuild/bbs-3.21-bioc/R/site-library --timings FGNet_3.41.0.tar.gz StartedAt: 2025-02-03 22:26:47 -0500 (Mon, 03 Feb 2025) EndedAt: 2025-02-03 22:27:48 -0500 (Mon, 03 Feb 2025) EllapsedTime: 61.1 seconds RetCode: 0 Status: WARNINGS CheckDir: FGNet.Rcheck Warnings: 1