Package: FGNet Version: 3.41.0 Command: /home/biocbuild/bbs-3.21-bioc/R/bin/R CMD INSTALL FGNet StartedAt: 2025-02-03 15:20:04 -0500 (Mon, 03 Feb 2025) EndedAt: 2025-02-03 15:20:19 -0500 (Mon, 03 Feb 2025) EllapsedTime: 14.8 seconds RetCode: 0 Status: OK