Package: FGNet Version: 3.41.0 Command: rm -rf FGNet.buildbin-libdir && mkdir FGNet.buildbin-libdir && E:\biocbuild\bbs-3.21-bioc\R\bin\R.exe CMD INSTALL --build --library=FGNet.buildbin-libdir FGNet_3.41.0.tar.gz StartedAt: 2025-02-04 07:58:40 -0500 (Tue, 04 Feb 2025) EndedAt: 2025-02-04 07:59:02 -0500 (Tue, 04 Feb 2025) EllapsedTime: 22.0 seconds RetCode: 0 Status: OK PackageFile: FGNet_3.41.0.zip PackageFileSize: 1.694 MiB