Package: FGNet Version: 3.41.0 Command: E:\biocbuild\bbs-3.21-bioc\R\bin\R.exe CMD check --no-multiarch --install=check:FGNet.install-out.txt --library=E:\biocbuild\bbs-3.21-bioc\R\library --no-vignettes --timings FGNet_3.41.0.tar.gz StartedAt: 2025-02-10 01:05:39 -0500 (Mon, 10 Feb 2025) EndedAt: 2025-02-10 01:06:53 -0500 (Mon, 10 Feb 2025) EllapsedTime: 74.6 seconds RetCode: 0 Status: WARNINGS CheckDir: FGNet.Rcheck Warnings: 1