Package: FGNet Version: 3.41.0 Command: E:\biocbuild\bbs-3.21-bioc\R\bin\R.exe CMD INSTALL FGNet StartedAt: 2025-02-09 15:30:31 -0500 (Sun, 09 Feb 2025) EndedAt: 2025-02-09 15:30:54 -0500 (Sun, 09 Feb 2025) EllapsedTime: 23.3 seconds RetCode: 0 Status: OK