Package: FISHalyseR Version: 1.41.0 Command: /home/biocbuild/bbs-3.21-bioc/R/bin/R CMD check --install=check:FISHalyseR.install-out.txt --library=/home/biocbuild/bbs-3.21-bioc/R/site-library --timings FISHalyseR_1.41.0.tar.gz StartedAt: 2025-02-09 22:19:26 -0500 (Sun, 09 Feb 2025) EndedAt: 2025-02-09 22:20:18 -0500 (Sun, 09 Feb 2025) EllapsedTime: 52.0 seconds RetCode: 0 Status: WARNINGS CheckDir: FISHalyseR.Rcheck Warnings: 2