Package: FISHalyseR Version: 1.41.0 Command: rm -rf FISHalyseR.buildbin-libdir && mkdir FISHalyseR.buildbin-libdir && E:\biocbuild\bbs-3.21-bioc\R\bin\R.exe CMD INSTALL --build --library=FISHalyseR.buildbin-libdir FISHalyseR_1.41.0.tar.gz StartedAt: 2025-02-10 07:45:20 -0500 (Mon, 10 Feb 2025) EndedAt: 2025-02-10 07:45:37 -0500 (Mon, 10 Feb 2025) EllapsedTime: 17.5 seconds RetCode: 0 Status: OK PackageFile: FISHalyseR_1.41.0.zip PackageFileSize: 833.8 KiB