Package: FLAMES Version: 2.1.4 Maintainer: Changqing Wang MaintainerEmail: wang.ch at wehi.edu.au git_url: https://git.bioconductor.org/packages/FLAMES git_branch: devel git_last_commit: 534d30d git_last_commit_date: 2025-01-05 23:25:58 -0500 (Sun, 05 Jan 2025)