Package: FLAMES Version: 2.1.4 Command: /Library/Frameworks/R.framework/Resources/bin/R CMD build --keep-empty-dirs --no-resave-data FLAMES StartedAt: 2025-02-03 16:56:32 -0500 (Mon, 03 Feb 2025) EndedAt: 2025-02-03 16:57:43 -0500 (Mon, 03 Feb 2025) EllapsedTime: 70.7 seconds RetCode: 0 Status: OK PackageFile: FLAMES_2.1.4.tar.gz PackageFileSize: 3.905 MiB