Package: FLAMES Version: 2.1.5 Command: /Library/Frameworks/R.framework/Resources/bin/R CMD INSTALL FLAMES StartedAt: 2025-02-09 15:25:09 -0500 (Sun, 09 Feb 2025) EndedAt: 2025-02-09 15:25:45 -0500 (Sun, 09 Feb 2025) EllapsedTime: 35.6 seconds RetCode: 0 Status: OK