Package: FLAMES Version: 2.1.4 Command: /home/biocbuild/R/R/bin/R CMD build --keep-empty-dirs --no-resave-data FLAMES StartedAt: 2025-01-28 22:54:14 -0000 (Tue, 28 Jan 2025) EndedAt: 2025-01-28 22:59:27 -0000 (Tue, 28 Jan 2025) EllapsedTime: 313.1 seconds RetCode: 0 Status: OK PackageFile: FLAMES_2.1.4.tar.gz PackageFileSize: 3.753 MiB