Package: FLAMES Version: 2.1.4 Command: /home/biocbuild/R/R/bin/R CMD INSTALL FLAMES StartedAt: 2025-01-29 20:29:33 -0000 (Wed, 29 Jan 2025) EndedAt: 2025-01-29 20:32:22 -0000 (Wed, 29 Jan 2025) EllapsedTime: 169.0 seconds RetCode: 0 Status: OK