Package: FLAMES Version: 2.1.5 Command: rm -rf FLAMES.buildbin-libdir && mkdir FLAMES.buildbin-libdir && /Users/biocbuild/BBS/utils/build-universal.sh FLAMES_2.1.5.tar.gz /Library/Frameworks/R.framework/Resources/bin/R FLAMES.buildbin-libdir StartedAt: 2025-02-10 00:53:34 -0500 (Mon, 10 Feb 2025) EndedAt: 2025-02-10 00:56:00 -0500 (Mon, 10 Feb 2025) EllapsedTime: 145.8 seconds RetCode: 0 Status: OK PackageFile: FLAMES_2.1.5.tgz PackageFileSize: 5.028 MiB