Package: FLAMES Version: 2.1.5 Command: /Library/Frameworks/R.framework/Resources/bin/R CMD check --install=check:FLAMES.install-out.txt --library=/Library/Frameworks/R.framework/Resources/library --no-vignettes --timings FLAMES_2.1.5.tar.gz StartedAt: 2025-02-09 20:43:52 -0500 (Sun, 09 Feb 2025) EndedAt: 2025-02-09 20:54:33 -0500 (Sun, 09 Feb 2025) EllapsedTime: 641.0 seconds RetCode: 0 Status: OK CheckDir: FLAMES.Rcheck Warnings: 0