Package: FLAMES Version: 2.1.4 Command: /home/biocbuild/bbs-3.21-bioc/R/bin/R CMD check --install=check:FLAMES.install-out.txt --library=/home/biocbuild/bbs-3.21-bioc/R/site-library --timings FLAMES_2.1.4.tar.gz StartedAt: 2025-02-03 22:29:00 -0500 (Mon, 03 Feb 2025) EndedAt: 2025-02-03 22:40:10 -0500 (Mon, 03 Feb 2025) EllapsedTime: 670.1 seconds RetCode: 0 Status: OK CheckDir: FLAMES.Rcheck Warnings: 0