Package: FLAMES Version: 2.1.4 Command: /home/biocbuild/bbs-3.21-bioc/R/bin/R CMD INSTALL FLAMES StartedAt: 2025-02-03 16:02:30 -0500 (Mon, 03 Feb 2025) EndedAt: 2025-02-03 16:04:20 -0500 (Mon, 03 Feb 2025) EllapsedTime: 109.1 seconds RetCode: 0 Status: OK