Package: FRGEpistasis Version: 1.43.0 Command: rm -rf FRGEpistasis.buildbin-libdir && mkdir FRGEpistasis.buildbin-libdir && /Users/biocbuild/BBS/utils/build-universal.sh FRGEpistasis_1.43.0.tar.gz /Library/Frameworks/R.framework/Resources/bin/R FRGEpistasis.buildbin-libdir StartedAt: 2025-02-09 22:14:49 -0500 (Sun, 09 Feb 2025) EndedAt: 2025-02-09 22:14:52 -0500 (Sun, 09 Feb 2025) EllapsedTime: 3.1 seconds RetCode: 0 Status: OK PackageFile: FRGEpistasis_1.43.0.tgz PackageFileSize: 397.8 KiB