Package: FRGEpistasis Version: 1.43.0 Command: /home/biocbuild/R/R/bin/R CMD check --install=check:FRGEpistasis.install-out.txt --library=/home/biocbuild/R/R/site-library --no-vignettes --timings FRGEpistasis_1.43.0.tar.gz StartedAt: 2025-01-28 10:42:59 -0000 (Tue, 28 Jan 2025) EndedAt: 2025-01-28 10:45:28 -0000 (Tue, 28 Jan 2025) EllapsedTime: 149.2 seconds RetCode: 0 Status: OK CheckDir: FRGEpistasis.Rcheck Warnings: 0