Package: FRGEpistasis Version: 1.43.0 Command: /Library/Frameworks/R.framework/Resources/bin/R CMD INSTALL FRGEpistasis StartedAt: 2025-02-09 15:45:53 -0500 (Sun, 09 Feb 2025) EndedAt: 2025-02-09 15:46:01 -0500 (Sun, 09 Feb 2025) EllapsedTime: 8.7 seconds RetCode: 0 Status: OK