Package: FRGEpistasis Version: 1.43.0 Command: /home/biocbuild/bbs-3.21-bioc/R/bin/R CMD build --keep-empty-dirs --no-resave-data FRGEpistasis StartedAt: 2025-02-09 17:17:43 -0500 (Sun, 09 Feb 2025) EndedAt: 2025-02-09 17:17:55 -0500 (Sun, 09 Feb 2025) EllapsedTime: 12.0 seconds RetCode: 0 Status: OK PackageFile: FRGEpistasis_1.43.0.tar.gz PackageFileSize: 314.6 KiB