Package: FRGEpistasis Version: 1.43.0 Command: rm -rf FRGEpistasis.buildbin-libdir && mkdir FRGEpistasis.buildbin-libdir && E:\biocbuild\bbs-3.21-bioc\R\bin\R.exe CMD INSTALL --build --library=FRGEpistasis.buildbin-libdir FRGEpistasis_1.43.0.tar.gz StartedAt: 2025-02-10 07:46:37 -0500 (Mon, 10 Feb 2025) EndedAt: 2025-02-10 07:47:35 -0500 (Mon, 10 Feb 2025) EllapsedTime: 57.4 seconds RetCode: 0 Status: OK PackageFile: FRGEpistasis_1.43.0.zip PackageFileSize: 296.9 KiB