Package: FRGEpistasis Version: 1.43.0 Command: E:\biocbuild\bbs-3.21-bioc\R\bin\R.exe CMD check --no-multiarch --install=check:FRGEpistasis.install-out.txt --library=E:\biocbuild\bbs-3.21-bioc\R\library --no-vignettes --timings FRGEpistasis_1.43.0.tar.gz StartedAt: 2025-02-10 01:13:06 -0500 (Mon, 10 Feb 2025) EndedAt: 2025-02-10 01:15:27 -0500 (Mon, 10 Feb 2025) EllapsedTime: 140.6 seconds RetCode: 0 Status: OK CheckDir: FRGEpistasis.Rcheck Warnings: 0