Package: FRGEpistasis Version: 1.43.0 Command: E:\biocbuild\bbs-3.21-bioc\R\bin\R.exe CMD INSTALL FRGEpistasis StartedAt: 2025-02-12 17:03:09 -0500 (Wed, 12 Feb 2025) EndedAt: 2025-02-12 17:03:33 -0500 (Wed, 12 Feb 2025) EllapsedTime: 24.0 seconds RetCode: 0 Status: OK