Package: FamAgg Version: 1.35.0 Command: rm -rf FamAgg.buildbin-libdir && mkdir FamAgg.buildbin-libdir && /Users/biocbuild/BBS/utils/build-universal.sh FamAgg_1.35.0.tar.gz /Library/Frameworks/R.framework/Resources/bin/R FamAgg.buildbin-libdir StartedAt: 2025-02-13 00:36:26 -0500 (Thu, 13 Feb 2025) EndedAt: 2025-02-13 00:36:46 -0500 (Thu, 13 Feb 2025) EllapsedTime: 19.7 seconds RetCode: 0 Status: OK PackageFile: FamAgg_1.35.0.tgz PackageFileSize: 2.14 MiB