Package: FamAgg Version: 1.35.0 Command: /Library/Frameworks/R.framework/Resources/bin/R CMD build --keep-empty-dirs --no-resave-data FamAgg StartedAt: 2025-02-09 16:44:26 -0500 (Sun, 09 Feb 2025) EndedAt: 2025-02-09 16:45:51 -0500 (Sun, 09 Feb 2025) EllapsedTime: 85.2 seconds RetCode: 0 Status: OK PackageFile: FamAgg_1.35.0.tar.gz PackageFileSize: 1.65 MiB