Package: FamAgg Version: 1.35.0 Command: /home/biocbuild/bbs-3.21-bioc/R/bin/R CMD check --install=check:FamAgg.install-out.txt --library=/home/biocbuild/bbs-3.21-bioc/R/site-library --timings FamAgg_1.35.0.tar.gz StartedAt: 2025-02-09 22:15:35 -0500 (Sun, 09 Feb 2025) EndedAt: 2025-02-09 22:18:15 -0500 (Sun, 09 Feb 2025) EllapsedTime: 160.3 seconds RetCode: 0 Status: OK CheckDir: FamAgg.Rcheck Warnings: 0