Package: FamAgg Version: 1.35.0 Command: chmod a+r FamAgg -R && E:\biocbuild\bbs-3.21-bioc\R\bin\R.exe CMD build --keep-empty-dirs --no-resave-data FamAgg StartedAt: 2025-02-09 18:40:24 -0500 (Sun, 09 Feb 2025) EndedAt: 2025-02-09 18:42:21 -0500 (Sun, 09 Feb 2025) EllapsedTime: 116.3 seconds RetCode: 0 Status: OK PackageFile: FamAgg_1.35.0.tar.gz PackageFileSize: 941.3 KiB