Package: FamAgg Version: 1.35.0 Command: E:\biocbuild\bbs-3.21-bioc\R\bin\R.exe CMD INSTALL FamAgg StartedAt: 2025-02-12 16:45:39 -0500 (Wed, 12 Feb 2025) EndedAt: 2025-02-12 16:46:24 -0500 (Wed, 12 Feb 2025) EllapsedTime: 45.3 seconds RetCode: 0 Status: OK