Package: FindIT2 Version: 1.13.0 Command: /Library/Frameworks/R.framework/Resources/bin/R CMD INSTALL FindIT2 StartedAt: 2025-02-09 15:20:13 -0500 (Sun, 09 Feb 2025) EndedAt: 2025-02-09 15:20:28 -0500 (Sun, 09 Feb 2025) EllapsedTime: 15.0 seconds RetCode: 0 Status: OK