Package: FindIT2 Version: 1.13.0 Command: /home/biocbuild/R/R/bin/R CMD build --keep-empty-dirs --no-resave-data FindIT2 StartedAt: 2025-01-28 22:53:40 -0000 (Tue, 28 Jan 2025) EndedAt: 2025-01-28 22:55:58 -0000 (Tue, 28 Jan 2025) EllapsedTime: 138.1 seconds RetCode: 0 Status: OK PackageFile: FindIT2_1.13.0.tar.gz PackageFileSize: 1.579 MiB