Package: FindIT2 Version: 1.13.0 Command: /home/biocbuild/R/R/bin/R CMD INSTALL FindIT2 StartedAt: 2025-01-29 20:17:22 -0000 (Wed, 29 Jan 2025) EndedAt: 2025-01-29 20:18:13 -0000 (Wed, 29 Jan 2025) EllapsedTime: 50.9 seconds RetCode: 0 Status: OK