Package: FindIT2 Version: 1.13.0 Command: rm -rf FindIT2.buildbin-libdir && mkdir FindIT2.buildbin-libdir && /Users/biocbuild/BBS/utils/build-universal.sh FindIT2_1.13.0.tar.gz /Library/Frameworks/R.framework/Resources/bin/R FindIT2.buildbin-libdir StartedAt: 2025-02-10 00:53:31 -0500 (Mon, 10 Feb 2025) EndedAt: 2025-02-10 00:54:24 -0500 (Mon, 10 Feb 2025) EllapsedTime: 53.6 seconds RetCode: 0 Status: OK PackageFile: FindIT2_1.13.0.tgz PackageFileSize: 2.437 MiB