Package: FindIT2 Version: 1.13.0 Command: /Library/Frameworks/R.framework/Resources/bin/R CMD build --keep-empty-dirs --no-resave-data FindIT2 StartedAt: 2025-02-09 16:45:48 -0500 (Sun, 09 Feb 2025) EndedAt: 2025-02-09 16:47:34 -0500 (Sun, 09 Feb 2025) EllapsedTime: 105.2 seconds RetCode: 0 Status: OK PackageFile: FindIT2_1.13.0.tar.gz PackageFileSize: 2.318 MiB