Package: FindIT2 Version: 1.13.0 Command: /Library/Frameworks/R.framework/Resources/bin/R CMD check --install=check:FindIT2.install-out.txt --library=/Library/Frameworks/R.framework/Resources/library --no-vignettes --timings FindIT2_1.13.0.tar.gz StartedAt: 2025-02-09 20:43:03 -0500 (Sun, 09 Feb 2025) EndedAt: 2025-02-09 20:49:45 -0500 (Sun, 09 Feb 2025) EllapsedTime: 401.9 seconds RetCode: 0 Status: OK CheckDir: FindIT2.Rcheck Warnings: 0