Package: FindIT2 Version: 1.13.0 Command: /Library/Frameworks/R.framework/Resources/bin/R CMD INSTALL FindIT2 StartedAt: 2025-02-09 15:32:40 -0500 (Sun, 09 Feb 2025) EndedAt: 2025-02-09 15:33:30 -0500 (Sun, 09 Feb 2025) EllapsedTime: 50.4 seconds RetCode: 0 Status: OK