Package: FindIT2 Version: 1.13.0 Command: /home/biocbuild/bbs-3.21-bioc/R/bin/R CMD build --keep-empty-dirs --no-resave-data FindIT2 StartedAt: 2025-02-09 17:15:00 -0500 (Sun, 09 Feb 2025) EndedAt: 2025-02-09 17:16:30 -0500 (Sun, 09 Feb 2025) EllapsedTime: 90.2 seconds RetCode: 0 Status: OK PackageFile: FindIT2_1.13.0.tar.gz PackageFileSize: 2.214 MiB