Package: FindIT2 Version: 1.13.0 Command: chmod a+r FindIT2 -R && E:\biocbuild\bbs-3.21-bioc\R\bin\R.exe CMD build --keep-empty-dirs --no-resave-data FindIT2 StartedAt: 2025-02-09 18:42:58 -0500 (Sun, 09 Feb 2025) EndedAt: 2025-02-09 18:44:54 -0500 (Sun, 09 Feb 2025) EllapsedTime: 115.7 seconds RetCode: 0 Status: OK PackageFile: FindIT2_1.13.0.tar.gz PackageFileSize: 1.42 MiB