Package: FindIT2 Version: 1.13.0 Command: E:\biocbuild\bbs-3.21-bioc\R\bin\R.exe CMD check --no-multiarch --install=check:FindIT2.install-out.txt --library=E:\biocbuild\bbs-3.21-bioc\R\library --no-vignettes --timings FindIT2_1.13.0.tar.gz StartedAt: 2025-02-10 01:06:34 -0500 (Mon, 10 Feb 2025) EndedAt: 2025-02-10 01:13:17 -0500 (Mon, 10 Feb 2025) EllapsedTime: 403.6 seconds RetCode: 0 Status: OK CheckDir: FindIT2.Rcheck Warnings: 0