Package: FindIT2 Version: 1.13.0 Command: E:\biocbuild\bbs-3.21-bioc\R\bin\R.exe CMD INSTALL FindIT2 StartedAt: 2025-02-09 16:27:34 -0500 (Sun, 09 Feb 2025) EndedAt: 2025-02-09 16:28:26 -0500 (Sun, 09 Feb 2025) EllapsedTime: 51.9 seconds RetCode: 0 Status: OK