Package: FitHiC Version: 1.33.0 Maintainer: Ruyu Tan MaintainerEmail: rut003 at ucsd.edu git_url: https://git.bioconductor.org/packages/FitHiC git_branch: devel git_last_commit: 75885eb git_last_commit_date: 2024-10-29 10:14:14 -0500 (Tue, 29 Oct 2024)