Package: FitHiC Version: 1.33.0 Command: /Library/Frameworks/R.framework/Resources/bin/R CMD build --keep-empty-dirs --no-resave-data FitHiC StartedAt: 2025-02-09 16:19:50 -0500 (Sun, 09 Feb 2025) EndedAt: 2025-02-09 16:20:47 -0500 (Sun, 09 Feb 2025) EllapsedTime: 56.6 seconds RetCode: 0 Status: OK PackageFile: FitHiC_1.33.0.tar.gz PackageFileSize: 27.87 MiB