Package: FitHiC Version: 1.33.0 Command: /home/biocbuild/R/R/bin/R CMD INSTALL FitHiC StartedAt: 2025-01-29 19:31:26 -0000 (Wed, 29 Jan 2025) EndedAt: 2025-01-29 19:31:42 -0000 (Wed, 29 Jan 2025) EllapsedTime: 16.0 seconds RetCode: 0 Status: OK