Package: FitHiC Version: 1.33.0 Command: /Library/Frameworks/R.framework/Resources/bin/R CMD INSTALL FitHiC StartedAt: 2025-02-12 15:04:41 -0500 (Wed, 12 Feb 2025) EndedAt: 2025-02-12 15:05:12 -0500 (Wed, 12 Feb 2025) EllapsedTime: 30.5 seconds RetCode: 0 Status: OK