Package: FitHiC Version: 1.33.0 Command: /home/biocbuild/bbs-3.21-bioc/R/bin/R CMD build --keep-empty-dirs --no-resave-data FitHiC StartedAt: 2025-02-09 17:15:06 -0500 (Sun, 09 Feb 2025) EndedAt: 2025-02-09 17:17:03 -0500 (Sun, 09 Feb 2025) EllapsedTime: 117.2 seconds RetCode: 0 Status: OK PackageFile: FitHiC_1.33.0.tar.gz PackageFileSize: 27.66 MiB