Package: FitHiC Version: 1.33.0 Command: /home/biocbuild/bbs-3.21-bioc/R/bin/R CMD INSTALL FitHiC StartedAt: 2025-02-04 15:01:29 -0500 (Tue, 04 Feb 2025) EndedAt: 2025-02-04 15:01:48 -0500 (Tue, 04 Feb 2025) EllapsedTime: 18.7 seconds RetCode: 0 Status: OK